BEGIN:VCALENDAR
VERSION:2.0
PRODID:http://www.kirche-am-schaumberg.de
BEGIN:VEVENT
UID:fc013b30-3ad5-11f1-a3e9-0242ac11002b-1785052800000-de
DTSTAMP:20260418T032335Z
DTSTART:20260726T080000Z
DTEND:20260726T090000Z
SUMMARY;LANGUAGE=de: Choralhochamt 
URL:http://www.kirche-am-schaumberg.de/aktuelles/gottesdienste/gottesdienst/Choralhochamt-2026.07.26/
END:VEVENT
END:VCALENDAR
