BEGIN:VCALENDAR
VERSION:2.0
PRODID:http://www.kirche-am-schaumberg.de
BEGIN:VEVENT
UID:6d7b27b9-21b9-11f1-a7a7-0242ac11002b-1776789000000-de
DTSTAMP:20260317T042611Z
DTSTART:20260421T163000Z
DTEND:20260421T171500Z
SUMMARY;LANGUAGE=de: Tischmesse in den Räumen der Bücherei St. Katharina Scheuern
END:VEVENT
END:VCALENDAR
